Package: ChIPQC Version: 1.44.0 Command: /home/biocbuild/R/R/bin/R CMD check --install=check:ChIPQC.install-out.txt --library=/home/biocbuild/R/R/site-library --no-vignettes --timings ChIPQC_1.44.0.tar.gz StartedAt: 2025-10-14 07:25:32 -0000 (Tue, 14 Oct 2025) EndedAt: 2025-10-14 07:34:46 -0000 (Tue, 14 Oct 2025) EllapsedTime: 554.3 seconds RetCode: 0 Status: OK CheckDir: ChIPQC.Rcheck Warnings: 0