Package: ChIPQC Version: 1.44.0 Command: /home/biocbuild/R/R/bin/R CMD build --keep-empty-dirs --no-resave-data ChIPQC StartedAt: 2025-10-13 23:34:42 -0000 (Mon, 13 Oct 2025) EndedAt: 2025-10-13 23:36:43 -0000 (Mon, 13 Oct 2025) EllapsedTime: 121.0 seconds RetCode: 0 Status: OK PackageFile: ChIPQC_1.44.0.tar.gz PackageFileSize: 1.517 MiB