Package: ChIPComp Version: 1.39.1 Command: /home/biocbuild/R/R/bin/R CMD INSTALL ChIPComp StartedAt: 2025-10-23 20:58:41 -0000 (Thu, 23 Oct 2025) EndedAt: 2025-10-23 20:59:20 -0000 (Thu, 23 Oct 2025) EllapsedTime: 39.0 seconds RetCode: 0 Status: OK