Package: ChAMP Version: 2.40.0 Command: /home/biocbuild/R/R/bin/R CMD build --keep-empty-dirs --no-resave-data ChAMP StartedAt: 2025-11-21 01:07:08 -0000 (Fri, 21 Nov 2025) EndedAt: 2025-11-21 01:09:52 -0000 (Fri, 21 Nov 2025) EllapsedTime: 164.1 seconds RetCode: 0 Status: OK PackageFile: ChAMP_2.40.0.tar.gz PackageFileSize: 7.902 MiB