Package: ChAMP Version: 2.40.0 Command: /home/biocbuild/bbs-3.22-bioc/R/bin/R CMD INSTALL ChAMP StartedAt: 2025-11-20 16:59:30 -0500 (Thu, 20 Nov 2025) EndedAt: 2025-11-20 17:00:35 -0500 (Thu, 20 Nov 2025) EllapsedTime: 64.8 seconds RetCode: 0 Status: OK