Package: ChAMP Version: 2.40.0 Command: /Library/Frameworks/R.framework/Resources/bin/R CMD check --install=check:ChAMP.install-out.txt --library=/Library/Frameworks/R.framework/Resources/library --no-vignettes --timings ChAMP_2.40.0.tar.gz StartedAt: 2025-11-03 20:07:36 -0500 (Mon, 03 Nov 2025) EndedAt: 2025-11-03 20:16:48 -0500 (Mon, 03 Nov 2025) EllapsedTime: 551.7 seconds RetCode: 0 Status: WARNINGS CheckDir: ChAMP.Rcheck Warnings: 2