Package: ChAMP Version: 2.40.0 Command: rm -rf ChAMP.buildbin-libdir && mkdir ChAMP.buildbin-libdir && /Users/biocbuild/BBS/utils/build-universal.sh ChAMP_2.40.0.tar.gz /Library/Frameworks/R.framework/Resources/bin/R ChAMP.buildbin-libdir StartedAt: 2025-11-04 01:32:08 -0500 (Tue, 04 Nov 2025) EndedAt: 2025-11-04 01:33:52 -0500 (Tue, 04 Nov 2025) EllapsedTime: 104.0 seconds RetCode: 0 Status: OK PackageFile: ChAMP_2.40.0.tgz PackageFileSize: 4.194 MiB