Package: ChAMP Version: 2.40.0 Command: /Library/Frameworks/R.framework/Resources/bin/R CMD INSTALL ChAMP StartedAt: 2025-11-10 15:34:50 -0500 (Mon, 10 Nov 2025) EndedAt: 2025-11-10 15:35:13 -0500 (Mon, 10 Nov 2025) EllapsedTime: 22.6 seconds RetCode: 0 Status: OK