Package: ChAMP Version: 2.40.0 Command: /Library/Frameworks/R.framework/Resources/bin/R CMD build --keep-empty-dirs --no-resave-data ChAMP StartedAt: 2025-11-10 15:54:31 -0500 (Mon, 10 Nov 2025) EndedAt: 2025-11-10 15:55:25 -0500 (Mon, 10 Nov 2025) EllapsedTime: 53.6 seconds RetCode: 0 Status: OK PackageFile: ChAMP_2.40.0.tar.gz PackageFileSize: 7.963 MiB