Package: ChAMP Version: 2.40.0 Command: /Library/Frameworks/R.framework/Resources/bin/R CMD INSTALL ChAMP StartedAt: 2025-11-20 19:31:16 -0500 (Thu, 20 Nov 2025) EndedAt: 2025-11-20 19:32:37 -0500 (Thu, 20 Nov 2025) EllapsedTime: 80.6 seconds RetCode: 0 Status: OK