Package: ChAMP Version: 2.40.0 Command: /Library/Frameworks/R.framework/Resources/bin/R CMD build --keep-empty-dirs --no-resave-data ChAMP StartedAt: 2025-11-20 21:46:18 -0500 (Thu, 20 Nov 2025) EndedAt: 2025-11-20 21:48:55 -0500 (Thu, 20 Nov 2025) EllapsedTime: 157.1 seconds RetCode: 0 Status: OK PackageFile: ChAMP_2.40.0.tar.gz PackageFileSize: 7.963 MiB