Package: Cepo Version: 1.15.1 Command: /home/biocbuild/R/R/bin/R CMD check --install=check:Cepo.install-out.txt --library=/home/biocbuild/R/R/site-library --no-vignettes --timings Cepo_1.15.1.tar.gz StartedAt: 2025-10-21 06:21:40 -0000 (Tue, 21 Oct 2025) EndedAt: 2025-10-21 06:27:02 -0000 (Tue, 21 Oct 2025) EllapsedTime: 321.3 seconds RetCode: 0 Status: OK CheckDir: Cepo.Rcheck Warnings: 0