Package: CellScore Version: 1.30.0 Maintainer: Nancy Mah MaintainerEmail: nancy.l.mah at googlemail.com git_url: https://git.bioconductor.org/packages/CellScore git_branch: RELEASE_3_22 git_last_commit: 868db7a git_last_commit_date: 2025-10-29 10:43:19 -0500 (Wed, 29 Oct 2025)