Package: CellBarcode Version: 1.14.0 Command: /home/biocbuild/bbs-3.21-bioc/R/bin/R CMD check --install=check:CellBarcode.install-out.txt --library=/home/biocbuild/bbs-3.21-bioc/R/site-library --timings CellBarcode_1.14.0.tar.gz StartedAt: 2025-10-15 21:32:52 -0400 (Wed, 15 Oct 2025) EndedAt: 2025-10-15 21:37:53 -0400 (Wed, 15 Oct 2025) EllapsedTime: 301.4 seconds RetCode: 0 Status: OK CheckDir: CellBarcode.Rcheck Warnings: 0