Package: CellBarcode Version: 1.14.0 Command: /Library/Frameworks/R.framework/Resources/bin/R CMD build --keep-empty-dirs --no-resave-data CellBarcode StartedAt: 2025-10-13 17:42:59 -0400 (Mon, 13 Oct 2025) EndedAt: 2025-10-13 17:46:27 -0400 (Mon, 13 Oct 2025) EllapsedTime: 207.5 seconds RetCode: 0 Status: OK PackageFile: CellBarcode_1.14.0.tar.gz PackageFileSize: 3.162 MiB