Package: CellBarcode Version: 1.14.0 Command: /home/biocbuild/R/R/bin/R CMD INSTALL CellBarcode StartedAt: 2025-10-13 21:09:06 -0000 (Mon, 13 Oct 2025) EndedAt: 2025-10-13 21:10:36 -0000 (Mon, 13 Oct 2025) EllapsedTime: 89.9 seconds RetCode: 0 Status: OK