Package: CellBarcode Version: 1.14.0 Command: /home/biocbuild/R/R/bin/R CMD check --install=check:CellBarcode.install-out.txt --library=/home/biocbuild/R/R/site-library --no-vignettes --timings CellBarcode_1.14.0.tar.gz StartedAt: 2025-10-14 07:16:32 -0000 (Tue, 14 Oct 2025) EndedAt: 2025-10-14 07:22:16 -0000 (Tue, 14 Oct 2025) EllapsedTime: 343.3 seconds RetCode: 0 Status: OK CheckDir: CellBarcode.Rcheck Warnings: 0