Package: CeTF Version: 1.21.0 Command: /home/biocbuild/R/R/bin/R CMD check --install=check:CeTF.install-out.txt --library=/home/biocbuild/R/R/site-library --no-vignettes --timings CeTF_1.21.0.tar.gz StartedAt: 2025-10-21 06:22:16 -0000 (Tue, 21 Oct 2025) EndedAt: 2025-10-21 06:29:01 -0000 (Tue, 21 Oct 2025) EllapsedTime: 404.4 seconds RetCode: 0 Status: OK CheckDir: CeTF.Rcheck Warnings: 0