Package: CeTF Version: 1.21.0 Command: F:\biocbuild\bbs-3.22-bioc\R\bin\R.exe CMD check --no-multiarch --install=check:CeTF.install-out.txt --library=F:\biocbuild\bbs-3.22-bioc\R\library --no-vignettes --timings CeTF_1.21.0.tar.gz StartedAt: 2025-08-15 01:31:00 -0400 (Fri, 15 Aug 2025) EndedAt: 2025-08-15 01:37:33 -0400 (Fri, 15 Aug 2025) EllapsedTime: 392.1 seconds RetCode: 0 Status: OK CheckDir: CeTF.Rcheck Warnings: 0