Package: CeTF Version: 1.21.0 Command: chmod a+r CeTF -R && F:\biocbuild\bbs-3.22-bioc\R\bin\R.exe CMD build --keep-empty-dirs --no-resave-data CeTF StartedAt: 2025-08-14 19:02:29 -0400 (Thu, 14 Aug 2025) EndedAt: 2025-08-14 19:06:09 -0400 (Thu, 14 Aug 2025) EllapsedTime: 219.7 seconds RetCode: 0 Status: OK PackageFile: CeTF_1.21.0.tar.gz PackageFileSize: 2.803 MiB