Package: CeTF Version: 1.22.0 Command: /home/biocbuild/bbs-3.22-bioc/R/bin/R CMD INSTALL CeTF StartedAt: 2025-11-06 15:48:04 -0500 (Thu, 06 Nov 2025) EndedAt: 2025-11-06 15:49:03 -0500 (Thu, 06 Nov 2025) EllapsedTime: 59.3 seconds RetCode: 0 Status: OK