Package: CatsCradle Version: 1.2.0 Command: /Library/Frameworks/R.framework/Resources/bin/R CMD INSTALL CatsCradle StartedAt: 2025-10-13 15:36:30 -0400 (Mon, 13 Oct 2025) EndedAt: 2025-10-13 15:38:00 -0400 (Mon, 13 Oct 2025) EllapsedTime: 90.0 seconds RetCode: 0 Status: OK