Package: CatsCradle Version: 1.2.0 Command: rm -rf CatsCradle.buildbin-libdir && mkdir CatsCradle.buildbin-libdir && /Users/biocbuild/BBS/utils/build-universal.sh CatsCradle_1.2.0.tar.gz /Library/Frameworks/R.framework/Resources/bin/R CatsCradle.buildbin-libdir StartedAt: 2025-08-26 12:33:02 -0400 (Tue, 26 Aug 2025) EndedAt: 2025-08-26 12:34:41 -0400 (Tue, 26 Aug 2025) EllapsedTime: 99.0 seconds RetCode: 0 Status: OK PackageFile: CatsCradle_1.2.0.tgz PackageFileSize: 8.495 MiB