Package: Category Version: 2.76.0 Command: /home/biocbuild/R/R/bin/R CMD INSTALL Category StartedAt: 2025-11-13 21:38:28 -0000 (Thu, 13 Nov 2025) EndedAt: 2025-11-13 21:38:59 -0000 (Thu, 13 Nov 2025) EllapsedTime: 31.0 seconds RetCode: 0 Status: OK