Package: Cardinal Version: 3.10.0 Command: /Library/Frameworks/R.framework/Resources/bin/R CMD check --install=check:Cardinal.install-out.txt --library=/Library/Frameworks/R.framework/Resources/library --no-vignettes --timings Cardinal_3.10.0.tar.gz StartedAt: 2025-10-14 01:04:20 -0400 (Tue, 14 Oct 2025) EndedAt: 2025-10-14 01:18:38 -0400 (Tue, 14 Oct 2025) EllapsedTime: 858.4 seconds RetCode: 0 Status: OK CheckDir: Cardinal.Rcheck Warnings: 0