Package: CalibraCurve Version: 1.0.0 Command: /home/biocbuild/R/R/bin/R CMD INSTALL CalibraCurve StartedAt: 2025-11-17 21:45:15 -0000 (Mon, 17 Nov 2025) EndedAt: 2025-11-17 21:45:48 -0000 (Mon, 17 Nov 2025) EllapsedTime: 33.6 seconds RetCode: 0 Status: OK