Package: CalibraCurve Version: 1.0.0 Command: /Library/Frameworks/R.framework/Resources/bin/R CMD check --install=check:CalibraCurve.install-out.txt --library=/Library/Frameworks/R.framework/Resources/library --no-vignettes --timings CalibraCurve_1.0.0.tar.gz StartedAt: 2025-11-10 19:05:25 -0500 (Mon, 10 Nov 2025) EndedAt: 2025-11-10 19:06:42 -0500 (Mon, 10 Nov 2025) EllapsedTime: 76.9 seconds RetCode: 0 Status: OK CheckDir: CalibraCurve.Rcheck Warnings: 0