Package: CalibraCurve Version: 1.0.0 Command: /Library/Frameworks/R.framework/Resources/bin/R CMD build --keep-empty-dirs --no-resave-data CalibraCurve StartedAt: 2025-11-10 15:49:53 -0500 (Mon, 10 Nov 2025) EndedAt: 2025-11-10 15:50:20 -0500 (Mon, 10 Nov 2025) EllapsedTime: 26.3 seconds RetCode: 0 Status: OK PackageFile: CalibraCurve_1.0.0.tar.gz PackageFileSize: 2.027 MiB