Package: CaMutQC Version: 1.4.5 Command: /Library/Frameworks/R.framework/Resources/bin/R CMD check --install=check:CaMutQC.install-out.txt --library=/Library/Frameworks/R.framework/Resources/library --no-vignettes --timings CaMutQC_1.4.5.tar.gz StartedAt: 2025-10-14 15:06:13 -0400 (Tue, 14 Oct 2025) EndedAt: 2025-10-14 15:10:21 -0400 (Tue, 14 Oct 2025) EllapsedTime: 248.1 seconds RetCode: 0 Status: OK CheckDir: CaMutQC.Rcheck Warnings: 0