Package: CaDrA Version: 1.7.0 Command: /home/biocbuild/R/R/bin/R CMD check --install=check:CaDrA.install-out.txt --library=/home/biocbuild/R/R/site-library --no-vignettes --timings CaDrA_1.7.0.tar.gz StartedAt: 2025-10-21 06:09:08 -0000 (Tue, 21 Oct 2025) EndedAt: 2025-10-21 06:18:13 -0000 (Tue, 21 Oct 2025) EllapsedTime: 545.4 seconds RetCode: 0 Status: OK CheckDir: CaDrA.Rcheck Warnings: 0