Package: CaDrA Version: 1.8.0 Command: /home/biocbuild/bbs-3.22-bioc/R/bin/R CMD INSTALL CaDrA StartedAt: 2025-11-06 15:17:57 -0500 (Thu, 06 Nov 2025) EndedAt: 2025-11-06 15:18:27 -0500 (Thu, 06 Nov 2025) EllapsedTime: 29.5 seconds RetCode: 0 Status: OK