Package: CaDrA Version: 1.8.0 Command: /home/biocbuild/bbs-3.22-bioc/R/bin/R CMD check --install=check:CaDrA.install-out.txt --library=/home/biocbuild/bbs-3.22-bioc/R/site-library --timings CaDrA_1.8.0.tar.gz StartedAt: 2025-11-06 21:41:04 -0500 (Thu, 06 Nov 2025) EndedAt: 2025-11-06 21:50:24 -0500 (Thu, 06 Nov 2025) EllapsedTime: 560.4 seconds RetCode: 0 Status: OK CheckDir: CaDrA.Rcheck Warnings: 0