Package: CaDrA Version: 1.8.0 Command: /home/biocbuild/bbs-3.22-bioc/R/bin/R CMD build --keep-empty-dirs --no-resave-data --md5 CaDrA StartedAt: 2025-11-06 16:37:20 -0500 (Thu, 06 Nov 2025) EndedAt: 2025-11-06 16:39:37 -0500 (Thu, 06 Nov 2025) EllapsedTime: 137.1 seconds RetCode: 0 Status: OK PackageFile: CaDrA_1.8.0.tar.gz PackageFileSize: 2.355 MiB