Package: CTexploreR Version: 1.4.0 Command: /Library/Frameworks/R.framework/Resources/bin/R CMD check --install=check:CTexploreR.install-out.txt --library=/Library/Frameworks/R.framework/Resources/library --no-vignettes --timings CTexploreR_1.4.0.tar.gz StartedAt: 2025-10-14 02:13:26 -0400 (Tue, 14 Oct 2025) EndedAt: 2025-10-14 02:51:49 -0400 (Tue, 14 Oct 2025) EllapsedTime: 2302.2 seconds RetCode: 0 Status: OK CheckDir: CTexploreR.Rcheck Warnings: 0