Package: CTexploreR Version: 1.4.0 Command: /Library/Frameworks/R.framework/Resources/bin/R CMD build --keep-empty-dirs --no-resave-data CTexploreR StartedAt: 2025-10-13 18:15:26 -0400 (Mon, 13 Oct 2025) EndedAt: 2025-10-13 18:34:39 -0400 (Mon, 13 Oct 2025) EllapsedTime: 1152.9 seconds RetCode: 0 Status: OK PackageFile: CTexploreR_1.4.0.tar.gz PackageFileSize: 7.54 MiB