Package: CTexploreR Version: 1.4.0 Command: rm -rf CTexploreR.buildbin-libdir && mkdir CTexploreR.buildbin-libdir && /Users/biocbuild/BBS/utils/build-universal.sh CTexploreR_1.4.0.tar.gz /Library/Frameworks/R.framework/Resources/bin/R CTexploreR.buildbin-libdir StartedAt: 2025-10-14 13:10:04 -0400 (Tue, 14 Oct 2025) EndedAt: 2025-10-14 13:12:03 -0400 (Tue, 14 Oct 2025) EllapsedTime: 119.0 seconds RetCode: 0 Status: OK PackageFile: CTexploreR_1.4.0.tgz PackageFileSize: 10.11 MiB