Package: CTdata Version: 1.8.0 Command: /Library/Frameworks/R.framework/Resources/bin/R CMD INSTALL CTdata StartedAt: 2025-10-13 15:49:18 -0400 (Mon, 13 Oct 2025) EndedAt: 2025-10-13 15:49:49 -0400 (Mon, 13 Oct 2025) EllapsedTime: 31.4 seconds RetCode: 0 Status: OK