Package: CTdata Version: 1.8.0 Command: /Library/Frameworks/R.framework/Resources/bin/R CMD check --install=check:CTdata.install-out.txt --library=/Library/Frameworks/R.framework/Resources/library --no-vignettes --timings CTdata_1.8.0.tar.gz StartedAt: 2025-10-14 02:13:08 -0400 (Tue, 14 Oct 2025) EndedAt: 2025-10-14 02:16:53 -0400 (Tue, 14 Oct 2025) EllapsedTime: 224.2 seconds RetCode: 0 Status: OK CheckDir: CTdata.Rcheck Warnings: 0