Package: CSOA Version: 0.99.2 Command: /home/biocbuild/R/R/bin/R CMD check --install=check:CSOA.install-out.txt --library=/home/biocbuild/R/R/site-library --no-vignettes --timings CSOA_0.99.2.tar.gz StartedAt: 2025-10-21 06:59:19 -0000 (Tue, 21 Oct 2025) EndedAt: 2025-10-21 07:06:16 -0000 (Tue, 21 Oct 2025) EllapsedTime: 417.2 seconds RetCode: 0 Status: OK CheckDir: CSOA.Rcheck Warnings: 0