Package: CSOA Version: 1.0.0 Command: /home/biocbuild/bbs-3.22-bioc/R/bin/R CMD INSTALL CSOA StartedAt: 2025-11-06 15:17:16 -0500 (Thu, 06 Nov 2025) EndedAt: 2025-11-06 15:17:55 -0500 (Thu, 06 Nov 2025) EllapsedTime: 38.9 seconds RetCode: 0 Status: OK