Package: CSOA Version: 1.0.0 Command: /home/biocbuild/bbs-3.22-bioc/R/bin/R CMD build --keep-empty-dirs --no-resave-data --md5 CSOA StartedAt: 2025-11-06 17:06:14 -0500 (Thu, 06 Nov 2025) EndedAt: 2025-11-06 17:08:36 -0500 (Thu, 06 Nov 2025) EllapsedTime: 142.1 seconds RetCode: 0 Status: OK PackageFile: CSOA_1.0.0.tar.gz PackageFileSize: 2.742 MiB