Package: CSOA Version: 1.0.0 Command: /Library/Frameworks/R.framework/Resources/bin/R CMD INSTALL CSOA StartedAt: 2025-11-03 15:23:43 -0500 (Mon, 03 Nov 2025) EndedAt: 2025-11-03 15:24:36 -0500 (Mon, 03 Nov 2025) EllapsedTime: 52.2 seconds RetCode: 0 Status: OK