Package: CSOA Version: 1.0.0 Command: rm -rf CSOA.buildbin-libdir && mkdir CSOA.buildbin-libdir && /Users/biocbuild/BBS/utils/build-universal.sh CSOA_1.0.0.tar.gz /Library/Frameworks/R.framework/Resources/bin/R CSOA.buildbin-libdir StartedAt: 2025-11-04 01:35:10 -0500 (Tue, 04 Nov 2025) EndedAt: 2025-11-04 01:36:08 -0500 (Tue, 04 Nov 2025) EllapsedTime: 58.3 seconds RetCode: 0 Status: OK PackageFile: CSOA_1.0.0.tgz PackageFileSize: 2.86 MiB