Package: CSOA Version: 1.0.0 Command: /Library/Frameworks/R.framework/Resources/bin/R CMD check --install=check:CSOA.install-out.txt --library=/Library/Frameworks/R.framework/Resources/library --no-vignettes --timings CSOA_1.0.0.tar.gz StartedAt: 2025-11-06 19:14:12 -0500 (Thu, 06 Nov 2025) EndedAt: 2025-11-06 19:16:20 -0500 (Thu, 06 Nov 2025) EllapsedTime: 127.4 seconds RetCode: 0 Status: OK CheckDir: CSOA.Rcheck Warnings: 0