Package: CSAR Version: 1.61.1 Command: /home/biocbuild/R/R/bin/R CMD INSTALL CSAR StartedAt: 2025-10-23 21:23:55 -0000 (Thu, 23 Oct 2025) EndedAt: 2025-10-23 21:24:07 -0000 (Thu, 23 Oct 2025) EllapsedTime: 12.3 seconds RetCode: 0 Status: OK