Package: CSAR Version: 1.62.0 Command: /home/biocbuild/bbs-3.22-bioc/R/bin/R CMD check --install=check:CSAR.install-out.txt --library=/home/biocbuild/bbs-3.22-bioc/R/site-library --timings CSAR_1.62.0.tar.gz StartedAt: 2025-11-09 22:42:44 -0500 (Sun, 09 Nov 2025) EndedAt: 2025-11-09 22:45:06 -0500 (Sun, 09 Nov 2025) EllapsedTime: 142.1 seconds RetCode: 0 Status: OK CheckDir: CSAR.Rcheck Warnings: 0