Package: CSAR Version: 1.62.0 Command: /Library/Frameworks/R.framework/Resources/bin/R CMD check --install=check:CSAR.install-out.txt --library=/Library/Frameworks/R.framework/Resources/library --no-vignettes --timings CSAR_1.62.0.tar.gz StartedAt: 2025-11-03 20:29:07 -0500 (Mon, 03 Nov 2025) EndedAt: 2025-11-03 20:31:30 -0500 (Mon, 03 Nov 2025) EllapsedTime: 143.4 seconds RetCode: 0 Status: OK CheckDir: CSAR.Rcheck Warnings: 0