Package: CSAR Version: 1.62.0 Command: /Library/Frameworks/R.framework/Resources/bin/R CMD INSTALL CSAR StartedAt: 2025-11-09 15:31:26 -0500 (Sun, 09 Nov 2025) EndedAt: 2025-11-09 15:31:30 -0500 (Sun, 09 Nov 2025) EllapsedTime: 4.1 seconds RetCode: 0 Status: OK