Package: CSAR Version: 1.62.0 Command: /Library/Frameworks/R.framework/Resources/bin/R CMD check --install=check:CSAR.install-out.txt --library=/Library/Frameworks/R.framework/Resources/library --no-vignettes --timings CSAR_1.62.0.tar.gz StartedAt: 2025-11-09 19:15:29 -0500 (Sun, 09 Nov 2025) EndedAt: 2025-11-09 19:16:27 -0500 (Sun, 09 Nov 2025) EllapsedTime: 57.6 seconds RetCode: 0 Status: OK CheckDir: CSAR.Rcheck Warnings: 0