Package: CSAR Version: 1.62.0 Command: rm -rf CSAR.buildbin-libdir && mkdir CSAR.buildbin-libdir && /Users/biocbuild/BBS/utils/build-universal.sh CSAR_1.62.0.tar.gz /Library/Frameworks/R.framework/Resources/bin/R CSAR.buildbin-libdir StartedAt: 2025-11-09 23:04:22 -0500 (Sun, 09 Nov 2025) EndedAt: 2025-11-09 23:04:27 -0500 (Sun, 09 Nov 2025) EllapsedTime: 5.1 seconds RetCode: 0 Status: OK PackageFile: CSAR_1.62.0.tgz PackageFileSize: 304.7 KiB